Package: systemPipeTools Version: 1.17.0 Command: /Library/Frameworks/R.framework/Resources/bin/R CMD INSTALL systemPipeTools StartedAt: 2025-07-15 15:10:33 -0400 (Tue, 15 Jul 2025) EndedAt: 2025-07-15 15:10:43 -0400 (Tue, 15 Jul 2025) EllapsedTime: 10.1 seconds RetCode: 0 Status: OK