Package: systemPipeTools Version: 1.15.0 Command: /Library/Frameworks/R.framework/Resources/bin/R CMD check --install=check:systemPipeTools.install-out.txt --library=/Library/Frameworks/R.framework/Resources/library --no-vignettes --timings systemPipeTools_1.15.0.tar.gz StartedAt: 2025-01-10 21:47:41 -0500 (Fri, 10 Jan 2025) EndedAt: 2025-01-10 21:49:15 -0500 (Fri, 10 Jan 2025) EllapsedTime: 94.2 seconds RetCode: 0 Status: WARNINGS CheckDir: systemPipeTools.Rcheck Warnings: 1