Package: systemPipeTools Version: 1.15.0 Command: /Library/Frameworks/R.framework/Resources/bin/R CMD build --keep-empty-dirs --no-resave-data systemPipeTools StartedAt: 2025-01-10 17:48:41 -0500 (Fri, 10 Jan 2025) EndedAt: 2025-01-10 17:49:06 -0500 (Fri, 10 Jan 2025) EllapsedTime: 24.3 seconds RetCode: 0 Status: OK PackageFile: systemPipeTools_1.15.0.tar.gz PackageFileSize: 1004 KiB