Package: systemPipeShiny Version: 1.17.0 Command: rm -rf systemPipeShiny.buildbin-libdir && mkdir systemPipeShiny.buildbin-libdir && E:\biocbuild\bbs-3.21-bioc\R\bin\R.exe CMD INSTALL --build --library=systemPipeShiny.buildbin-libdir systemPipeShiny_1.17.0.tar.gz StartedAt: 2025-02-03 08:23:49 -0500 (Mon, 03 Feb 2025) EndedAt: 2025-02-03 08:25:16 -0500 (Mon, 03 Feb 2025) EllapsedTime: 87.0 seconds RetCode: 0 Status: OK PackageFile: systemPipeShiny_1.17.0.zip PackageFileSize: 3.603 MiB