Package: systemPipeShiny Version: 1.17.0 Command: /home/biocbuild/R/R/bin/R CMD check --install=check:systemPipeShiny.install-out.txt --library=/home/biocbuild/R/R/site-library --no-vignettes --timings systemPipeShiny_1.17.0.tar.gz StartedAt: 2025-01-28 15:59:09 -0000 (Tue, 28 Jan 2025) EndedAt: 2025-01-28 16:01:17 -0000 (Tue, 28 Jan 2025) EllapsedTime: 128.3 seconds RetCode: 0 Status: OK CheckDir: systemPipeShiny.Rcheck Warnings: 0