Package: systemPipeShiny Version: 1.19.1 Command: /Library/Frameworks/R.framework/Resources/bin/R CMD INSTALL systemPipeShiny StartedAt: 2025-05-21 15:05:29 -0400 (Wed, 21 May 2025) EndedAt: 2025-05-21 15:05:34 -0400 (Wed, 21 May 2025) EllapsedTime: 5.5 seconds RetCode: 0 Status: OK