Package: systemPipeShiny Version: 1.19.1 Command: /Library/Frameworks/R.framework/Resources/bin/R CMD build --keep-empty-dirs --no-resave-data systemPipeShiny StartedAt: 2025-05-22 17:41:15 -0400 (Thu, 22 May 2025) EndedAt: 2025-05-22 17:41:26 -0400 (Thu, 22 May 2025) EllapsedTime: 11.1 seconds RetCode: 0 Status: OK PackageFile: systemPipeShiny_1.19.1.tar.gz PackageFileSize: 4.308 MiB