Package: systemPipeShiny Version: 1.19.1 Command: rm -rf systemPipeShiny.buildbin-libdir && mkdir systemPipeShiny.buildbin-libdir && /Users/biocbuild/BBS/utils/build-universal.sh systemPipeShiny_1.19.1.tar.gz /Library/Frameworks/R.framework/Resources/bin/R systemPipeShiny.buildbin-libdir StartedAt: 2025-05-22 23:03:30 -0400 (Thu, 22 May 2025) EndedAt: 2025-05-22 23:03:37 -0400 (Thu, 22 May 2025) EllapsedTime: 7.1 seconds RetCode: 0 Status: OK PackageFile: systemPipeShiny_1.19.1.tgz PackageFileSize: 3.581 MiB