Package: systemPipeR Version: 2.13.0 Command: chmod a+r systemPipeR -R && E:\biocbuild\bbs-3.21-bioc\R\bin\R.exe CMD build --keep-empty-dirs --no-resave-data systemPipeR StartedAt: 2025-02-03 22:13:40 -0500 (Mon, 03 Feb 2025) EndedAt: 2025-02-03 22:16:49 -0500 (Mon, 03 Feb 2025) EllapsedTime: 189.1 seconds RetCode: 0 Status: OK PackageFile: systemPipeR_2.13.0.tar.gz PackageFileSize: 7.336 MiB