Package: systemPipeR Version: 2.13.0 Command: /home/biocbuild/bbs-3.21-bioc/R/bin/R CMD INSTALL systemPipeR StartedAt: 2025-02-05 15:49:30 -0500 (Wed, 05 Feb 2025) EndedAt: 2025-02-05 15:50:14 -0500 (Wed, 05 Feb 2025) EllapsedTime: 44.3 seconds RetCode: 0 Status: OK