Package: systemPipeR Version: 2.13.0 Command: /Library/Frameworks/R.framework/Resources/bin/R CMD check --install=check:systemPipeR.install-out.txt --library=/Library/Frameworks/R.framework/Resources/library --no-vignettes --timings systemPipeR_2.13.0.tar.gz StartedAt: 2025-02-05 23:41:02 -0500 (Wed, 05 Feb 2025) EndedAt: 2025-02-05 23:47:10 -0500 (Wed, 05 Feb 2025) EllapsedTime: 367.9 seconds RetCode: 0 Status: OK CheckDir: systemPipeR.Rcheck Warnings: 0