Package: systemPipeR Version: 2.13.0 Command: /Library/Frameworks/R.framework/Resources/bin/R CMD build --keep-empty-dirs --no-resave-data systemPipeR StartedAt: 2025-02-05 18:32:19 -0500 (Wed, 05 Feb 2025) EndedAt: 2025-02-05 18:34:02 -0500 (Wed, 05 Feb 2025) EllapsedTime: 102.8 seconds RetCode: 0 Status: OK PackageFile: systemPipeR_2.13.0.tar.gz PackageFileSize: 6.497 MiB