Package: systemPipeR Version: 2.13.0 Command: rm -rf systemPipeR.buildbin-libdir && mkdir systemPipeR.buildbin-libdir && /Users/biocbuild/BBS/utils/build-universal.sh systemPipeR_2.13.0.tar.gz /Library/Frameworks/R.framework/Resources/bin/R systemPipeR.buildbin-libdir StartedAt: 2025-02-06 00:56:06 -0500 (Thu, 06 Feb 2025) EndedAt: 2025-02-06 00:57:13 -0500 (Thu, 06 Feb 2025) EllapsedTime: 67.0 seconds RetCode: 0 Status: OK PackageFile: systemPipeR_2.13.0.tgz PackageFileSize: 6.288 MiB