Package: systemPipeR Version: 2.13.0 Command: /home/biocbuild/R/R/bin/R CMD INSTALL systemPipeR StartedAt: 2025-01-29 20:04:03 -0000 (Wed, 29 Jan 2025) EndedAt: 2025-01-29 20:05:06 -0000 (Wed, 29 Jan 2025) EllapsedTime: 62.3 seconds RetCode: 0 Status: OK