Package: systemPipeR Version: 2.13.0 Command: /Library/Frameworks/R.framework/Resources/bin/R CMD INSTALL systemPipeR StartedAt: 2025-02-05 15:14:38 -0500 (Wed, 05 Feb 2025) EndedAt: 2025-02-05 15:14:55 -0500 (Wed, 05 Feb 2025) EllapsedTime: 17.4 seconds RetCode: 0 Status: OK