Package: systemPipeR Version: 2.15.0 Command: /Library/Frameworks/R.framework/Resources/bin/R CMD build --keep-empty-dirs --no-resave-data systemPipeR StartedAt: 2025-04-27 17:45:17 -0400 (Sun, 27 Apr 2025) EndedAt: 2025-04-27 17:45:56 -0400 (Sun, 27 Apr 2025) EllapsedTime: 39.5 seconds RetCode: 0 Status: OK PackageFile: systemPipeR_2.15.0.tar.gz PackageFileSize: 6.498 MiB