Package: syntenet Version: 1.11.2 Command: rm -rf syntenet.buildbin-libdir && mkdir syntenet.buildbin-libdir && F:\biocbuild\bbs-3.22-bioc\R\bin\R.exe CMD INSTALL --build --library=syntenet.buildbin-libdir syntenet_1.11.2.tar.gz StartedAt: 2025-08-15 11:27:44 -0400 (Fri, 15 Aug 2025) EndedAt: 2025-08-15 11:28:48 -0400 (Fri, 15 Aug 2025) EllapsedTime: 63.5 seconds RetCode: 0 Status: OK PackageFile: syntenet_1.11.2.zip PackageFileSize: 3.014 MiB