Package: synlet Version: 2.7.0 Command: E:\biocbuild\bbs-3.21-bioc\R\bin\R.exe CMD INSTALL synlet StartedAt: 2025-02-02 15:33:08 -0500 (Sun, 02 Feb 2025) EndedAt: 2025-02-02 15:33:19 -0500 (Sun, 02 Feb 2025) EllapsedTime: 11.1 seconds RetCode: 0 Status: OK