Package: synlet Version: 2.7.0 Command: E:\biocbuild\bbs-3.21-bioc\R\bin\R.exe CMD check --no-multiarch --install=check:synlet.install-out.txt --library=E:\biocbuild\bbs-3.21-bioc\R\library --no-vignettes --timings synlet_2.7.0.tar.gz StartedAt: 2025-02-03 05:50:48 -0500 (Mon, 03 Feb 2025) EndedAt: 2025-02-03 05:51:42 -0500 (Mon, 03 Feb 2025) EllapsedTime: 53.9 seconds RetCode: 0 Status: OK CheckDir: synlet.Rcheck Warnings: 0