Package: synlet Version: 2.9.0 Command: /Library/Frameworks/R.framework/Resources/bin/R CMD check --install=check:synlet.install-out.txt --library=/Library/Frameworks/R.framework/Resources/library --no-vignettes --timings synlet_2.9.0.tar.gz StartedAt: 2025-05-07 22:20:17 -0400 (Wed, 07 May 2025) EndedAt: 2025-05-07 22:20:39 -0400 (Wed, 07 May 2025) EllapsedTime: 21.3 seconds RetCode: 0 Status: OK CheckDir: synlet.Rcheck Warnings: 0