Package: synergyfinder Version: 3.17.0 Command: /home/biocbuild/bbs-3.22-bioc/R/bin/R CMD INSTALL synergyfinder StartedAt: 2025-10-23 15:10:10 -0400 (Thu, 23 Oct 2025) EndedAt: 2025-10-23 15:10:22 -0400 (Thu, 23 Oct 2025) EllapsedTime: 11.8 seconds RetCode: 0 Status: OK