Package: synergyfinder Version: 3.15.0 Command: /home/biocbuild/bbs-3.21-bioc/R/bin/R CMD check --install=check:synergyfinder.install-out.txt --library=/home/biocbuild/bbs-3.21-bioc/R/site-library --timings synergyfinder_3.15.0.tar.gz StartedAt: 2025-02-05 03:21:35 -0500 (Wed, 05 Feb 2025) EndedAt: 2025-02-05 03:24:21 -0500 (Wed, 05 Feb 2025) EllapsedTime: 166.3 seconds RetCode: 0 Status: WARNINGS CheckDir: synergyfinder.Rcheck Warnings: 1