Package: synergyfinder Version: 3.17.0 Command: rm -rf synergyfinder.buildbin-libdir && mkdir synergyfinder.buildbin-libdir && /Users/biocbuild/BBS/utils/build-universal.sh synergyfinder_3.17.0.tar.gz /Library/Frameworks/R.framework/Resources/bin/R synergyfinder.buildbin-libdir StartedAt: 2025-10-22 02:52:26 -0400 (Wed, 22 Oct 2025) EndedAt: 2025-10-22 02:52:40 -0400 (Wed, 22 Oct 2025) EllapsedTime: 13.9 seconds RetCode: 0 Status: OK PackageFile: synergyfinder_3.17.0.tgz PackageFileSize: 3.892 MiB