Package: synergyfinder Version: 3.15.0 Command: /Library/Frameworks/R.framework/Resources/bin/R CMD INSTALL synergyfinder StartedAt: 2025-02-04 15:21:38 -0500 (Tue, 04 Feb 2025) EndedAt: 2025-02-04 15:21:41 -0500 (Tue, 04 Feb 2025) EllapsedTime: 3.3 seconds RetCode: 0 Status: OK