Package: synergyfinder Version: 3.15.0 Command: /Library/Frameworks/R.framework/Resources/bin/R CMD check --install=check:synergyfinder.install-out.txt --library=/Library/Frameworks/R.framework/Resources/library --no-vignettes --timings synergyfinder_3.15.0.tar.gz StartedAt: 2025-02-04 21:42:42 -0500 (Tue, 04 Feb 2025) EndedAt: 2025-02-04 21:43:18 -0500 (Tue, 04 Feb 2025) EllapsedTime: 35.4 seconds RetCode: 0 Status: WARNINGS CheckDir: synergyfinder.Rcheck Warnings: 1