Package: synergyfinder Version: 3.15.0 Command: /Library/Frameworks/R.framework/Resources/bin/R CMD build --keep-empty-dirs --no-resave-data synergyfinder StartedAt: 2025-02-04 17:46:38 -0500 (Tue, 04 Feb 2025) EndedAt: 2025-02-04 17:47:10 -0500 (Tue, 04 Feb 2025) EllapsedTime: 32.3 seconds RetCode: 0 Status: OK PackageFile: synergyfinder_3.15.0.tar.gz PackageFileSize: 6.464 MiB