Package: synapter Version: 2.31.1 Command: chmod a+r synapter -R && F:\biocbuild\bbs-3.22-bioc\R\bin\R.exe CMD build --keep-empty-dirs --no-resave-data synapter StartedAt: 2025-04-08 22:46:17 -0400 (Tue, 08 Apr 2025) EndedAt: 2025-04-08 22:50:34 -0400 (Tue, 08 Apr 2025) EllapsedTime: 257.3 seconds RetCode: 1 Status: ERROR PackageFile: None PackageFileSize: NA