Package: synapter Version: 2.31.0 Command: E:\biocbuild\bbs-3.21-bioc\R\bin\R.exe CMD INSTALL synapter StartedAt: 2025-02-16 16:34:33 -0500 (Sun, 16 Feb 2025) EndedAt: 2025-02-16 16:36:43 -0500 (Sun, 16 Feb 2025) EllapsedTime: 129.6 seconds RetCode: 0 Status: OK