Package: synapter Version: 2.31.0 Command: /Library/Frameworks/R.framework/Resources/bin/R CMD check --install=check:synapter.install-out.txt --library=/Library/Frameworks/R.framework/Resources/library --no-vignettes --timings synapter_2.31.0.tar.gz StartedAt: 2025-02-16 23:30:51 -0500 (Sun, 16 Feb 2025) EndedAt: 2025-02-16 23:37:07 -0500 (Sun, 16 Feb 2025) EllapsedTime: 376.6 seconds RetCode: 0 Status: OK CheckDir: synapter.Rcheck Warnings: 0