Package: synapter Version: 2.31.0 Command: /home/biocbuild/R/R/bin/R CMD INSTALL synapter StartedAt: 2025-01-29 20:21:54 -0000 (Wed, 29 Jan 2025) EndedAt: 2025-01-29 20:23:12 -0000 (Wed, 29 Jan 2025) EllapsedTime: 78.3 seconds RetCode: 0 Status: OK