Package: synapsis Version: 1.15.0 Command: /home/biocbuild/bbs-3.22-bioc/R/bin/R CMD INSTALL synapsis StartedAt: 2025-10-01 15:14:48 -0400 (Wed, 01 Oct 2025) EndedAt: 2025-10-01 15:14:53 -0400 (Wed, 01 Oct 2025) EllapsedTime: 4.6 seconds RetCode: 0 Status: OK