Package: switchBox Version: 1.45.0 Command: /home/biocbuild/R/R/bin/R CMD INSTALL switchBox StartedAt: 2025-10-13 20:33:40 -0000 (Mon, 13 Oct 2025) EndedAt: 2025-10-13 20:34:06 -0000 (Mon, 13 Oct 2025) EllapsedTime: 25.7 seconds RetCode: 0 Status: OK