Package: switchBox Version: 1.45.0 Command: /Library/Frameworks/R.framework/Resources/bin/R CMD INSTALL switchBox StartedAt: 2025-05-07 15:05:47 -0400 (Wed, 07 May 2025) EndedAt: 2025-05-07 15:06:20 -0400 (Wed, 07 May 2025) EllapsedTime: 33.4 seconds RetCode: 0 Status: OK