Package: swfdr Version: 1.35.0 Command: /home/biocbuild/R/R/bin/R CMD build --keep-empty-dirs --no-resave-data swfdr StartedAt: 2025-09-30 03:47:04 -0000 (Tue, 30 Sep 2025) EndedAt: 2025-09-30 03:48:12 -0000 (Tue, 30 Sep 2025) EllapsedTime: 68.0 seconds RetCode: 0 Status: OK PackageFile: swfdr_1.35.0.tar.gz PackageFileSize: 1.188 MiB