Package: svaRetro Version: 1.15.0 Maintainer: Ruining Dong MaintainerEmail: lnyidrn at gmail.com git_url: https://git.bioconductor.org/packages/svaRetro git_branch: devel git_last_commit: f920a00 git_last_commit_date: 2025-04-15 12:37:27 -0400 (Tue, 15 Apr 2025)