Package: svaNUMT Version: 1.13.0 Command: E:\biocbuild\bbs-3.21-bioc\R\bin\R.exe CMD INSTALL svaNUMT StartedAt: 2025-02-16 16:27:17 -0500 (Sun, 16 Feb 2025) EndedAt: 2025-02-16 16:28:05 -0500 (Sun, 16 Feb 2025) EllapsedTime: 48.6 seconds RetCode: 0 Status: OK