Package: svaNUMT Version: 1.13.0 Command: rm -rf svaNUMT.buildbin-libdir && mkdir svaNUMT.buildbin-libdir && E:\biocbuild\bbs-3.21-bioc\R\bin\R.exe CMD INSTALL --build --library=svaNUMT.buildbin-libdir svaNUMT_1.13.0.tar.gz StartedAt: 2025-02-17 08:37:24 -0500 (Mon, 17 Feb 2025) EndedAt: 2025-02-17 08:38:05 -0500 (Mon, 17 Feb 2025) EllapsedTime: 41.9 seconds RetCode: 0 Status: OK PackageFile: svaNUMT_1.13.0.zip PackageFileSize: 632.3 KiB