Package: svaNUMT Version: 1.13.0 Command: /home/biocbuild/R/R/bin/R CMD check --install=check:svaNUMT.install-out.txt --library=/home/biocbuild/R/R/site-library --no-vignettes --timings svaNUMT_1.13.0.tar.gz StartedAt: 2025-01-28 15:55:48 -0000 (Tue, 28 Jan 2025) EndedAt: 2025-01-28 16:02:33 -0000 (Tue, 28 Jan 2025) EllapsedTime: 404.8 seconds RetCode: 0 Status: OK CheckDir: svaNUMT.Rcheck Warnings: 0