Package: svaNUMT Version: 1.15.0 Maintainer: Ruining Dong MaintainerEmail: lnyidrn at gmail.com git_url: https://git.bioconductor.org/packages/svaNUMT git_branch: devel git_last_commit: 8d6da17 git_last_commit_date: 2025-04-15 12:34:37 -0400 (Tue, 15 Apr 2025)