Package: sva Version: 3.57.0 Command: /home/biocbuild/R/R/bin/R CMD build --keep-empty-dirs --no-resave-data sva StartedAt: 2025-10-03 03:40:38 -0000 (Fri, 03 Oct 2025) EndedAt: 2025-10-03 03:41:43 -0000 (Fri, 03 Oct 2025) EllapsedTime: 65.0 seconds RetCode: 0 Status: OK PackageFile: sva_3.57.0.tar.gz PackageFileSize: 431.3 KiB