Package: sva Version: 3.57.0 Command: F:\biocbuild\bbs-3.22-bioc\R\bin\R.exe CMD INSTALL sva StartedAt: 2025-08-14 15:59:26 -0400 (Thu, 14 Aug 2025) EndedAt: 2025-08-14 15:59:58 -0400 (Thu, 14 Aug 2025) EllapsedTime: 32.3 seconds RetCode: 0 Status: OK