Package: sva Version: 3.57.0 Command: chmod a+r sva -R && F:\biocbuild\bbs-3.22-bioc\R\bin\R.exe CMD build --keep-empty-dirs --no-resave-data sva StartedAt: 2025-08-14 23:39:19 -0400 (Thu, 14 Aug 2025) EndedAt: 2025-08-14 23:40:33 -0400 (Thu, 14 Aug 2025) EllapsedTime: 74.2 seconds RetCode: 0 Status: OK PackageFile: sva_3.57.0.tar.gz PackageFileSize: 444 KiB