Package: sva Version: 3.55.0 Command: /Library/Frameworks/R.framework/Resources/bin/R CMD INSTALL sva StartedAt: 2025-02-16 15:31:46 -0500 (Sun, 16 Feb 2025) EndedAt: 2025-02-16 15:32:13 -0500 (Sun, 16 Feb 2025) EllapsedTime: 27.0 seconds RetCode: 0 Status: OK