Package: sva Version: 3.55.0 Command: /Library/Frameworks/R.framework/Resources/bin/R CMD build --keep-empty-dirs --no-resave-data sva StartedAt: 2025-02-16 18:23:36 -0500 (Sun, 16 Feb 2025) EndedAt: 2025-02-16 18:24:38 -0500 (Sun, 16 Feb 2025) EllapsedTime: 61.9 seconds RetCode: 0 Status: OK PackageFile: sva_3.55.0.tar.gz PackageFileSize: 443 KiB