Package: sva Version: 3.55.0 Command: rm -rf sva.buildbin-libdir && mkdir sva.buildbin-libdir && /Users/biocbuild/BBS/utils/build-universal.sh sva_3.55.0.tar.gz /Library/Frameworks/R.framework/Resources/bin/R sva.buildbin-libdir StartedAt: 2025-02-17 00:46:14 -0500 (Mon, 17 Feb 2025) EndedAt: 2025-02-17 00:46:46 -0500 (Mon, 17 Feb 2025) EllapsedTime: 31.3 seconds RetCode: 0 Status: OK PackageFile: sva_3.55.0.tgz PackageFileSize: 528.3 KiB