Package: sva Version: 3.55.0 Command: /home/biocbuild/R/R/bin/R CMD build --keep-empty-dirs --no-resave-data sva StartedAt: 2025-01-28 02:49:07 -0000 (Tue, 28 Jan 2025) EndedAt: 2025-01-28 02:50:19 -0000 (Tue, 28 Jan 2025) EllapsedTime: 72.0 seconds RetCode: 0 Status: OK PackageFile: sva_3.55.0.tar.gz PackageFileSize: 454 KiB