Package: survcomp Version: 1.59.0 Command: rm -rf survcomp.buildbin-libdir && mkdir survcomp.buildbin-libdir && F:\biocbuild\bbs-3.22-bioc\R\bin\R.exe CMD INSTALL --build --library=survcomp.buildbin-libdir survcomp_1.59.0.tar.gz StartedAt: 2025-08-15 11:26:56 -0400 (Fri, 15 Aug 2025) EndedAt: 2025-08-15 11:27:22 -0400 (Fri, 15 Aug 2025) EllapsedTime: 26.1 seconds RetCode: 0 Status: OK PackageFile: survcomp_1.59.0.zip PackageFileSize: 857.5 KiB