Package: survcomp Version: 1.59.0 Maintainer: Benjamin Haibe-Kains MaintainerEmail: benjamin.haibe.kains at utoronto.ca git_url: https://git.bioconductor.org/packages/survcomp git_branch: devel git_last_commit: f5f1852 git_last_commit_date: 2025-04-15 10:07:43 -0400 (Tue, 15 Apr 2025)