Package: survClust Version: 1.3.0 Command: chmod a+r survClust -R && F:\biocbuild\bbs-3.22-bioc\R\bin\R.exe CMD build --keep-empty-dirs --no-resave-data survClust StartedAt: 2025-08-14 23:39:02 -0400 (Thu, 14 Aug 2025) EndedAt: 2025-08-14 23:42:08 -0400 (Thu, 14 Aug 2025) EllapsedTime: 186.5 seconds RetCode: 0 Status: OK PackageFile: survClust_1.3.0.tar.gz PackageFileSize: 616.6 KiB