Package: survClust Version: 1.3.0 Command: rm -rf survClust.buildbin-libdir && mkdir survClust.buildbin-libdir && /Users/biocbuild/BBS/utils/build-universal.sh survClust_1.3.0.tar.gz /Library/Frameworks/R.framework/Resources/bin/R survClust.buildbin-libdir StartedAt: 2025-10-07 02:38:12 -0400 (Tue, 07 Oct 2025) EndedAt: 2025-10-07 02:38:55 -0400 (Tue, 07 Oct 2025) EllapsedTime: 42.9 seconds RetCode: 0 Status: OK PackageFile: survClust_1.3.0.tgz PackageFileSize: 767.6 KiB